BEGIN:VCALENDAR
VERSION:2.0
PRODID:-//Winchester Community Music School - ECPv6.15.17.1//NONSGML v1.0//EN
CALSCALE:GREGORIAN
METHOD:PUBLISH
X-WR-CALNAME:Winchester Community Music School
X-ORIGINAL-URL:https://www.winchestermusic.org
X-WR-CALDESC:Events for Winchester Community Music School
REFRESH-INTERVAL;VALUE=DURATION:PT1H
X-Robots-Tag:noindex
X-PUBLISHED-TTL:PT1H
BEGIN:VTIMEZONE
TZID:America/New_York
BEGIN:DAYLIGHT
TZOFFSETFROM:-0500
TZOFFSETTO:-0400
TZNAME:EDT
DTSTART:20250309T070000
END:DAYLIGHT
BEGIN:STANDARD
TZOFFSETFROM:-0400
TZOFFSETTO:-0500
TZNAME:EST
DTSTART:20251102T060000
END:STANDARD
BEGIN:DAYLIGHT
TZOFFSETFROM:-0500
TZOFFSETTO:-0400
TZNAME:EDT
DTSTART:20260308T070000
END:DAYLIGHT
BEGIN:STANDARD
TZOFFSETFROM:-0400
TZOFFSETTO:-0500
TZNAME:EST
DTSTART:20261101T060000
END:STANDARD
BEGIN:DAYLIGHT
TZOFFSETFROM:-0500
TZOFFSETTO:-0400
TZNAME:EDT
DTSTART:20270314T070000
END:DAYLIGHT
BEGIN:STANDARD
TZOFFSETFROM:-0400
TZOFFSETTO:-0500
TZNAME:EST
DTSTART:20271107T060000
END:STANDARD
END:VTIMEZONE
BEGIN:VEVENT
DTSTART;TZID=America/New_York:20260503T120000
DTEND;TZID=America/New_York:20260503T170000
DTSTAMP:20260423T094907
CREATED:20260302T153329Z
LAST-MODIFIED:20260302T153451Z
UID:10001337-1777809600-1777827600@www.winchestermusic.org
SUMMARY:Music MAYnia
DESCRIPTION:Music MAYnia is our annual music performathon and community festival. Held on the first Sunday in May\, Music MAYnia is free and open to the public and features live music\, instrument demos\, games\, arts & crafts\, food trucks\, and more! Students of all ages and abilities perform live on four stages providing continuous music ranging from classical to rock. It’s a popular music festival that many community members attend annually. \nLearn More! \nSign Up to Volunteer!
URL:https://www.winchestermusic.org/event/music-maynia-3/
CATEGORIES:Community Event,Student Recital
ATTACH;FMTTYPE=image/png:https://www.winchestermusic.org/wp-content/uploads/2026/03/Music-MAYnia-logo-2026-color-e1772465641727.png
END:VEVENT
BEGIN:VEVENT
DTSTART;TZID=America/New_York:20260508T193000
DTEND;TZID=America/New_York:20260508T210000
DTSTAMP:20260423T094907
CREATED:20251120T193251Z
LAST-MODIFIED:20260409T214201Z
UID:10001286-1778268600-1778274000@www.winchestermusic.org
SUMMARY:Broadway On Highland
DESCRIPTION:Calling all Broadway lovers! Join us for an evening of favorites from the Broadway or Disney stage\, performed by private students from the WCMS voice department. The evening also features several sing-along numbers for all in attendance to participate in. \nGuidelines for Performers: \n\nYou don’t need to be memorized\, but your selection should be well-prepared.\nBring your sheet music in a binder (no loose sheets\, lead or lyric sheets). No a cappella renditions are permitted.\nA copy for the accompanist must be turned in to your teacher at least two weeks in advance. It must be complete\, clean\, and copied back-to-back.\nThe accompanist copy must be in the key in which you plan to sing\, three-hole-punched and binder-ready.\nFamily-friendly lyrics and casual dress—no costumes or props\, please!\nPerformers should arrive at 6:30 PM on the day of the event to run through their piece once with an accompanist. Please feel free to bring a water bottle.\n\nSongs for Audience Sing-Alongs:  Listen in advance to become familiar with the songs! Lyrics will be provided at the event. \n\n“Do You Hear the People Sing” from Les Misérables  https://www.youtube.com/watch?v=90b2R6yzIzE&list=RD90b2R6yzIzE&start_radio=1\n“Sieze the Day” from Newsies https://youtu.be/DLRKUCXzfHM?si=c-JNxpD0vsLqTRZZ\n“The Impossible Dream” from Man of La Mancha  https://youtu.be/uRimW8NYNjo?si=X5vqvMpi2H6pSFG4\n“Imagine” from Lennon  https://youtu.be/NLiWFUDJ95I?si=F6fDRN2qeloYZWkD\n“Let’s Go Fly a Kite” from Mary Poppins  https://youtu.be/-lXH9O94jak?si=wamplth54KAjM6CR\n\nHost:  Norina Rowen\, soprano and Voice Department Chair \nConsistent with WCMS health guidelines\, please stay home if you or anyone in your group has symptoms of illness. Face masks are welcome\, encouraged\, and optional.
URL:https://www.winchestermusic.org/event/broadway-on-highland-10/
CATEGORIES:Student Recital
ATTACH;FMTTYPE=image/png:https://www.winchestermusic.org/wp-content/uploads/2023/10/Broadway-Musicals-Collage-image-e1697035915266.png
END:VEVENT
BEGIN:VEVENT
DTSTART;TZID=America/New_York:20260509T143000
DTEND;TZID=America/New_York:20260509T153000
DTSTAMP:20260423T094907
CREATED:20260114T201627Z
LAST-MODIFIED:20260407T191717Z
UID:10001308-1778337000-1778340600@www.winchestermusic.org
SUMMARY:Lee Piano Studio Recital - OFFSITE (Falcetti Pianos)
DESCRIPTION:Recital takes place at Falcetti Pianos\, 2284 Washington St\, Newton\, MA 02462
URL:https://www.winchestermusic.org/event/lee-piano-studio-recital-4/
CATEGORIES:Student Recital
END:VEVENT
BEGIN:VEVENT
DTSTART;TZID=America/New_York:20260509T160000
DTEND;TZID=America/New_York:20260509T170000
DTSTAMP:20260423T094907
CREATED:20260114T201847Z
LAST-MODIFIED:20260114T201847Z
UID:10001309-1778342400-1778346000@www.winchestermusic.org
SUMMARY:Park Piano Studio Recital
DESCRIPTION:Piano Students of Dahee Park perform for family and friends.  Nichols Hall
URL:https://www.winchestermusic.org/event/park-piano-studio-recital-3/
CATEGORIES:Student Recital
END:VEVENT
BEGIN:VEVENT
DTSTART;TZID=America/New_York:20260511T183000
DTEND;TZID=America/New_York:20260511T193000
DTSTAMP:20260423T094907
CREATED:20260217T191524Z
LAST-MODIFIED:20260217T191524Z
UID:10001330-1778524200-1778527800@www.winchestermusic.org
SUMMARY:Ziegler Piano Studio Recital
DESCRIPTION:Piano Students of Laura Ziegler perform for family and friends.  Nichols Hall.
URL:https://www.winchestermusic.org/event/ziegler-piano-studio-recital-3/
CATEGORIES:Student Recital
END:VEVENT
BEGIN:VEVENT
DTSTART;TZID=America/New_York:20260512T193000
DTEND;TZID=America/New_York:20260512T203000
DTSTAMP:20260423T094907
CREATED:20260319T175114Z
LAST-MODIFIED:20260319T175114Z
UID:10001357-1778614200-1778617800@www.winchestermusic.org
SUMMARY:Cunningham Flute Studio Recital
DESCRIPTION:Flute students of Mary Cunningham perform for family and friends.  Nichols Hall.
URL:https://www.winchestermusic.org/event/cunningham-flute-studio-recital-2/
CATEGORIES:Student Recital
END:VEVENT
BEGIN:VEVENT
DTSTART;TZID=America/New_York:20260514T190000
DTEND;TZID=America/New_York:20260514T200000
DTSTAMP:20260423T094907
CREATED:20260213T162946Z
LAST-MODIFIED:20260213T162946Z
UID:10001329-1778785200-1778788800@www.winchestermusic.org
SUMMARY:Hida-Battaglia Oboe Studio Recital
DESCRIPTION:Oboe Students of Kyoko Hida-Battaglia perform for family and friends.  Nichols Hall.
URL:https://www.winchestermusic.org/event/hida-battaglia-oboe-studio-recital-3/
CATEGORIES:Student Recital
END:VEVENT
BEGIN:VEVENT
DTSTART;TZID=America/New_York:20260516T173000
DTEND;TZID=America/New_York:20260516T183000
DTSTAMP:20260423T094907
CREATED:20260324T163249Z
LAST-MODIFIED:20260324T164437Z
UID:10001359-1778952600-1778956200@www.winchestermusic.org
SUMMARY:Kang Piano Studio Recital
DESCRIPTION:Piano students of Yerim Kang perform for family and friends.  Nichols Hall
URL:https://www.winchestermusic.org/event/kang-piano-studio-recital-3/
CATEGORIES:Student Recital
END:VEVENT
BEGIN:VEVENT
DTSTART;TZID=America/New_York:20260520T190000
DTEND;TZID=America/New_York:20260520T200000
DTSTAMP:20260423T094907
CREATED:20251009T190247Z
LAST-MODIFIED:20251009T190247Z
UID:10001259-1779303600-1779307200@www.winchestermusic.org
SUMMARY:Tanaka Piano Studio Recital
DESCRIPTION:Piano Students of Rieko Tanaka perform for family and friends.  Nichols Hall
URL:https://www.winchestermusic.org/event/tanaka-piano-studio-recital-5/
CATEGORIES:Student Recital
END:VEVENT
BEGIN:VEVENT
DTSTART;TZID=America/New_York:20260521T190000
DTEND;TZID=America/New_York:20260521T200000
DTSTAMP:20260423T094907
CREATED:20260313T153226Z
LAST-MODIFIED:20260313T153226Z
UID:10001342-1779390000-1779393600@www.winchestermusic.org
SUMMARY:All-School Recital
DESCRIPTION:Open to all WCMS students! Perform live for an adoring audience of family and friends. It’s a chance for everyone to share the music they’ve been working on. All ages and instruments are welcome. \nSign up to perform
URL:https://www.winchestermusic.org/event/all-school-recital-19/
CATEGORIES:Student Recital
ATTACH;FMTTYPE=image/png:https://www.winchestermusic.org/wp-content/uploads/2023/10/Colorful-instrument-montage-e1727718039733.png
END:VEVENT
BEGIN:VEVENT
DTSTART;TZID=America/New_York:20260522T180000
DTEND;TZID=America/New_York:20260522T190000
DTSTAMP:20260423T094907
CREATED:20251009T191203Z
LAST-MODIFIED:20251009T191203Z
UID:10001260-1779472800-1779476400@www.winchestermusic.org
SUMMARY:Tanaka Piano Studio Recital #2
DESCRIPTION:Piano students of Rieko Tanaka perform for family and friends.  Nichols Hall.
URL:https://www.winchestermusic.org/event/tanaka-piano-studio-recital-2-2/
CATEGORIES:Student Recital
END:VEVENT
BEGIN:VEVENT
DTSTART;TZID=America/New_York:20260523T143000
DTEND;TZID=America/New_York:20260523T153000
DTSTAMP:20260423T094907
CREATED:20260324T162256Z
LAST-MODIFIED:20260324T162256Z
UID:10001358-1779546600-1779550200@www.winchestermusic.org
SUMMARY:Hitchcock Guitar & Ukulele Studio Recital
DESCRIPTION:Guitar and Ukulele students of Tad Hitchcock perform for family and friends.  Nichols Hall.
URL:https://www.winchestermusic.org/event/hitchcock-guitar-ukulele-studio-recital/
CATEGORIES:Student Recital
END:VEVENT
BEGIN:VEVENT
DTSTART;TZID=America/New_York:20260526T190000
DTEND;TZID=America/New_York:20260526T200000
DTSTAMP:20260423T094907
CREATED:20260311T172008Z
LAST-MODIFIED:20260311T172008Z
UID:10001340-1779822000-1779825600@www.winchestermusic.org
SUMMARY:Zakarian Percussion Studio Recital
DESCRIPTION:Percussion students of Sylvie Zakarian perform for family and friends.  Nichols Hall.
URL:https://www.winchestermusic.org/event/zakarian-percussion-studio-recital-3/
CATEGORIES:Student Recital
END:VEVENT
BEGIN:VEVENT
DTSTART;TZID=America/New_York:20260527T190000
DTEND;TZID=America/New_York:20260527T200000
DTSTAMP:20260423T094907
CREATED:20260126T172413Z
LAST-MODIFIED:20260126T172413Z
UID:10001321-1779908400-1779912000@www.winchestermusic.org
SUMMARY:Ishizuka Piano Studio Recital #1
DESCRIPTION:Piano students of Eiko Ishizuka perform for family and friends.  Nichols Hall
URL:https://www.winchestermusic.org/event/ishizuka-piano-studio-recital-1-4/
CATEGORIES:Student Recital
END:VEVENT
BEGIN:VEVENT
DTSTART;TZID=America/New_York:20260527T200000
DTEND;TZID=America/New_York:20260527T210000
DTSTAMP:20260423T094907
CREATED:20260126T172447Z
LAST-MODIFIED:20260126T172447Z
UID:10001322-1779912000-1779915600@www.winchestermusic.org
SUMMARY:Ishizuka Piano Studio Recital #2
DESCRIPTION:Piano students of Eiko Ishizuka perform for family and friends.  Nichols Hall
URL:https://www.winchestermusic.org/event/ishizuka-piano-studio-recital-2-4/
CATEGORIES:Student Recital
END:VEVENT
BEGIN:VEVENT
DTSTART;TZID=America/New_York:20260528T193000
DTEND;TZID=America/New_York:20260528T203000
DTSTAMP:20260423T094907
CREATED:20260212T174118Z
LAST-MODIFIED:20260212T175400Z
UID:10001327-1779996600-1780000200@www.winchestermusic.org
SUMMARY:Ishizuka Piano Studio Recital #3
DESCRIPTION:Piano Students of Eiko Ishizuka perform for family and friends.  Nichols Hall.
URL:https://www.winchestermusic.org/event/ishizuka-piano-studio-recital-3-4/
CATEGORIES:Student Recital
END:VEVENT
BEGIN:VEVENT
DTSTART;TZID=America/New_York:20260603T190000
DTEND;TZID=America/New_York:20260603T200000
DTSTAMP:20260423T094907
CREATED:20251112T215325Z
LAST-MODIFIED:20251112T215325Z
UID:10001282-1780513200-1780516800@www.winchestermusic.org
SUMMARY:Vanoni Piano Studio Recital
DESCRIPTION:Piano students of Miriam Vanoni perform for family and friends.  Nichols Hall.
URL:https://www.winchestermusic.org/event/vanoni-piano-studio-recital-3/
CATEGORIES:Student Recital
END:VEVENT
BEGIN:VEVENT
DTSTART;TZID=America/New_York:20260604T193000
DTEND;TZID=America/New_York:20260604T203000
DTSTAMP:20260423T094907
CREATED:20260115T163007Z
LAST-MODIFIED:20260115T163007Z
UID:10001312-1780601400-1780605000@www.winchestermusic.org
SUMMARY:Puglisi Percussion Studio Recital
DESCRIPTION:Percussion Students of Carl Puglisi perform for family and friends.  Nichols Hall.
URL:https://www.winchestermusic.org/event/puglisi-percussion-studio-recital-3/
CATEGORIES:Student Recital
END:VEVENT
BEGIN:VEVENT
DTSTART;TZID=America/New_York:20260606T140000
DTEND;TZID=America/New_York:20260606T150000
DTSTAMP:20260423T094907
CREATED:20260115T211832Z
LAST-MODIFIED:20260115T211832Z
UID:10001314-1780754400-1780758000@www.winchestermusic.org
SUMMARY:Ferro Clarinet Studio Recital
DESCRIPTION:Clarinet Students of Celine Ferro perform for family and friends.  Nichols Hall.
URL:https://www.winchestermusic.org/event/ferro-clarinet-studio-recital/
CATEGORIES:Student Recital
END:VEVENT
BEGIN:VEVENT
DTSTART;TZID=America/New_York:20260606T153000
DTEND;TZID=America/New_York:20260606T153000
DTSTAMP:20260423T094907
CREATED:20260115T213920Z
LAST-MODIFIED:20260115T213920Z
UID:10001315-1780759800-1780759800@www.winchestermusic.org
SUMMARY:Morelli Piano Studio Recital
DESCRIPTION:Piano Students of Peter Morelli perform for family and friends.  Nichols Hall.
URL:https://www.winchestermusic.org/event/morelli-piano-studio-recital-6/
CATEGORIES:Student Recital
END:VEVENT
BEGIN:VEVENT
DTSTART;TZID=America/New_York:20260606T170000
DTEND;TZID=America/New_York:20260606T180000
DTSTAMP:20260423T094907
CREATED:20260316T171558Z
LAST-MODIFIED:20260316T171558Z
UID:10001356-1780765200-1780768800@www.winchestermusic.org
SUMMARY:Kang Piano Studio Recital
DESCRIPTION:Piano students of Yerim Kang perform for family and friends.  Nichols Hall.
URL:https://www.winchestermusic.org/event/kang-piano-studio-recital-2/
CATEGORIES:Student Recital
END:VEVENT
BEGIN:VEVENT
DTSTART;TZID=America/New_York:20260607T130000
DTEND;TZID=America/New_York:20260607T170000
DTSTAMP:20260423T094907
CREATED:20251004T133446Z
LAST-MODIFIED:20251004T133446Z
UID:10001206-1780837200-1780851600@www.winchestermusic.org
SUMMARY:Suzuki Dept. Solo Recitals
DESCRIPTION:Location:  Nichols Hall
URL:https://www.winchestermusic.org/event/suzuki-dept-solo-recitals-4/
CATEGORIES:Student Recital
END:VEVENT
BEGIN:VEVENT
DTSTART;TZID=America/New_York:20260608T193000
DTEND;TZID=America/New_York:20260608T203000
DTSTAMP:20260423T094907
CREATED:20260130T202810Z
LAST-MODIFIED:20260130T202810Z
UID:10001323-1780947000-1780950600@www.winchestermusic.org
SUMMARY:Lizak Flute Studio Recital
DESCRIPTION:Flute students of Jessica Lizak perform for family and friends.  Nichols Hall.
URL:https://www.winchestermusic.org/event/lizak-flute-studio-recital-6/
CATEGORIES:Student Recital
END:VEVENT
BEGIN:VEVENT
DTSTART;TZID=America/New_York:20260609T181500
DTEND;TZID=America/New_York:20260609T191500
DTSTAMP:20260423T094907
CREATED:20260305T195213Z
LAST-MODIFIED:20260305T195213Z
UID:10001339-1781028900-1781032500@www.winchestermusic.org
SUMMARY:Kim-Han Piano Studio Recital
DESCRIPTION:Piano students of Jinie Kim-Han perform for family and friends.  Nichols Hall
URL:https://www.winchestermusic.org/event/kim-han-piano-studio-recital-3/
CATEGORIES:Student Recital
END:VEVENT
BEGIN:VEVENT
DTSTART;TZID=America/New_York:20260609T193000
DTEND;TZID=America/New_York:20260609T203000
DTSTAMP:20260423T094907
CREATED:20251203T182307Z
LAST-MODIFIED:20251203T182307Z
UID:10001290-1781033400-1781037000@www.winchestermusic.org
SUMMARY:Reisdorf Piano Studio Recital
DESCRIPTION:Piano students of Connie Reisdorf perform for family and friends.  Nichols Hall
URL:https://www.winchestermusic.org/event/reisdorf-piano-studio-recital-3/
CATEGORIES:Student Recital
END:VEVENT
BEGIN:VEVENT
DTSTART;TZID=America/New_York:20260610T190000
DTEND;TZID=America/New_York:20260610T200000
DTSTAMP:20260423T094907
CREATED:20260115T162413Z
LAST-MODIFIED:20260115T162413Z
UID:10001311-1781118000-1781121600@www.winchestermusic.org
SUMMARY:Ambrose Cello Studio Recital
DESCRIPTION:Cello students of Pamela Ambrose perform for family and friends.  Nichols Hall.
URL:https://www.winchestermusic.org/event/ambrose-cello-studio-recital-5/
CATEGORIES:Student Recital
END:VEVENT
BEGIN:VEVENT
DTSTART;TZID=America/New_York:20260611T193000
DTEND;TZID=America/New_York:20260611T203000
DTSTAMP:20260423T094907
CREATED:20260119T204305Z
LAST-MODIFIED:20260119T204305Z
UID:10001316-1781206200-1781209800@www.winchestermusic.org
SUMMARY:Shimazaki Piano Studio Recital
DESCRIPTION:Piano students of Yukiko Shimazaki perform for family and friends.  Nichols Hall.
URL:https://www.winchestermusic.org/event/shimazaki-piano-studio-recital-3/
CATEGORIES:Student Recital
END:VEVENT
BEGIN:VEVENT
DTSTART;TZID=America/New_York:20260612T173000
DTEND;TZID=America/New_York:20260612T183000
DTSTAMP:20260423T094907
CREATED:20260305T191223Z
LAST-MODIFIED:20260305T193944Z
UID:10001338-1781285400-1781289000@www.winchestermusic.org
SUMMARY:Ibanez Piano Studio Recital
DESCRIPTION:Piano students of Jorge Ibanez perform for family and friends.  Nichols Hall.
URL:https://www.winchestermusic.org/event/ibanez-piano-studio-recital-3/
CATEGORIES:Student Recital
END:VEVENT
BEGIN:VEVENT
DTSTART;TZID=America/New_York:20260612T190000
DTEND;TZID=America/New_York:20260612T200000
DTSTAMP:20260423T094907
CREATED:20251105T173230Z
LAST-MODIFIED:20260305T190937Z
UID:10001274-1781290800-1781294400@www.winchestermusic.org
SUMMARY:Dalton Piano Studio Recital
DESCRIPTION:Piano Students of Dana Dalton perform for family and friends.  Nichols Hall.
URL:https://www.winchestermusic.org/event/dalton-piano-studio-recital-6/
CATEGORIES:Student Recital
END:VEVENT
BEGIN:VEVENT
DTSTART;TZID=America/New_York:20260613T150000
DTEND;TZID=America/New_York:20260613T160000
DTSTAMP:20260423T094907
CREATED:20251118T180626Z
LAST-MODIFIED:20251118T180626Z
UID:10001283-1781362800-1781366400@www.winchestermusic.org
SUMMARY:Rowen Voice Studio Recital
DESCRIPTION:Voice Students of Norina Rowen perform for family and friends.  Nichols Hall.
URL:https://www.winchestermusic.org/event/rowen-voice-studio-recital/
CATEGORIES:Student Recital
END:VEVENT
END:VCALENDAR